BEGIN:VCALENDAR
VERSION:2.0
PRODID:-//North Penn Water Authority - ECPv6.15.20//NONSGML v1.0//EN
CALSCALE:GREGORIAN
METHOD:PUBLISH
X-ORIGINAL-URL:https://npwa.org
X-WR-CALDESC:Events for North Penn Water Authority
REFRESH-INTERVAL;VALUE=DURATION:PT1H
X-Robots-Tag:noindex
X-PUBLISHED-TTL:PT1H
BEGIN:VTIMEZONE
TZID:UTC
BEGIN:STANDARD
TZOFFSETFROM:+0000
TZOFFSETTO:+0000
TZNAME:UTC
DTSTART:20200101T000000
END:STANDARD
END:VTIMEZONE
BEGIN:VEVENT
DTSTART;TZID=UTC:20210515T103000
DTEND;TZID=UTC:20210515T113000
DTSTAMP:20260419T120622
CREATED:20210513T184801Z
LAST-MODIFIED:20210513T185636Z
UID:7726-1621074600-1621078200@npwa.org
SUMMARY:Children's Book Giveaway - Indian Valley
DESCRIPTION:The North Penn Water Authority is excited to release their first children’s\nbook\, “The Source to Tap Mystery.” In this interactive coloring book\, children\ncan take an adventure with “H2Ollie\,” and his friends\, to solve the mystery of\nwhere water comes from! Join us at the Indian Valley Public Library on this date and time to receive your copy!
URL:https://npwa.org/event/bookgiveaway-indianvalley/
LOCATION:Indian Valley Public Library\, 100 E. Church Street\, Telford\, PA\, 18969
END:VEVENT
END:VCALENDAR